BEGIN:VCALENDAR
VERSION:2.0
PRODID:-//Aturbridge - ECPv6.15.20//NONSGML v1.0//EN
CALSCALE:GREGORIAN
METHOD:PUBLISH
X-ORIGINAL-URL:https://aturbridge.com
X-WR-CALDESC:Events for Aturbridge
REFRESH-INTERVAL;VALUE=DURATION:PT1H
X-Robots-Tag:noindex
X-PUBLISHED-TTL:PT1H
BEGIN:VTIMEZONE
TZID:UTC
BEGIN:STANDARD
TZOFFSETFROM:+0000
TZOFFSETTO:+0000
TZNAME:UTC
DTSTART:20240101T000000
END:STANDARD
END:VTIMEZONE
BEGIN:VEVENT
DTSTART;TZID=UTC:20250407T080000
DTEND;TZID=UTC:20250407T170000
DTSTAMP:20260424T124835
CREATED:20250305T230300Z
LAST-MODIFIED:20250306T001305Z
UID:7212-1744012800-1744045200@aturbridge.com
SUMMARY:MAGNIFY
DESCRIPTION:An exclusive membership experience offering monthly networking meetups\, expert masterclasses\, and mentorship opportunities for ambitious women in business.
URL:https://aturbridge.com/event/magnify/
LOCATION:Zoom
CATEGORIES:Events
END:VEVENT
END:VCALENDAR