BEGIN:VCALENDAR
VERSION:2.0
PRODID:-//Aturbridge - ECPv6.15.20//NONSGML v1.0//EN
CALSCALE:GREGORIAN
METHOD:PUBLISH
X-ORIGINAL-URL:https://aturbridge.com
X-WR-CALDESC:Events for Aturbridge
REFRESH-INTERVAL;VALUE=DURATION:PT1H
X-Robots-Tag:noindex
X-PUBLISHED-TTL:PT1H
BEGIN:VTIMEZONE
TZID:UTC
BEGIN:STANDARD
TZOFFSETFROM:+0000
TZOFFSETTO:+0000
TZNAME:UTC
DTSTART:20240101T000000
END:STANDARD
END:VTIMEZONE
BEGIN:VEVENT
DTSTART;TZID=UTC:20250526T080000
DTEND;TZID=UTC:20250526T170000
DTSTAMP:20260423T173651
CREATED:20250305T230739Z
LAST-MODIFIED:20250306T001445Z
UID:7230-1748246400-1748278800@aturbridge.com
SUMMARY:THRIVE
DESCRIPTION:This interactive event helps you strategically design your year with clear goals and actionable plans. Through guided exercises\, reflection\, and strategic insights\, you’ll create a roadmap to success in both business and personal life.
URL:https://aturbridge.com/event/pybd-2/
LOCATION:Somewhere\, Venue\, Nigeria
CATEGORIES:Programmes
END:VEVENT
END:VCALENDAR