BEGIN:VCALENDAR
VERSION:2.0
PRODID:-//Aturbridge - ECPv6.15.20//NONSGML v1.0//EN
CALSCALE:GREGORIAN
METHOD:PUBLISH
X-WR-CALNAME:Aturbridge
X-ORIGINAL-URL:https://aturbridge.com
X-WR-CALDESC:Events for Aturbridge
REFRESH-INTERVAL;VALUE=DURATION:PT1H
X-Robots-Tag:noindex
X-PUBLISHED-TTL:PT1H
BEGIN:VTIMEZONE
TZID:UTC
BEGIN:STANDARD
TZOFFSETFROM:+0000
TZOFFSETTO:+0000
TZNAME:UTC
DTSTART:20250101T000000
END:STANDARD
END:VTIMEZONE
BEGIN:VEVENT
DTSTART;TZID=UTC:20260418T130000
DTEND;TZID=UTC:20260418T170000
DTSTAMP:20260423T220035
CREATED:20250305T230630Z
LAST-MODIFIED:20260311T101407Z
UID:7228-1776517200-1776531600@aturbridge.com
SUMMARY:LEAP
DESCRIPTION:A transformative seminar focused on equipping entrepreneurs with financial literacy\, funding strategies\, and business growth techniques to scale their businesses successfully.
URL:https://aturbridge.com/event/leap/
LOCATION:somewhere venue\,Abuja
CATEGORIES:Events
END:VEVENT
END:VCALENDAR